BEGIN:VCALENDAR
VERSION:2.0
PRODID:-//Michigan Business Network - ECPv6.15.15//NONSGML v1.0//EN
CALSCALE:GREGORIAN
METHOD:PUBLISH
X-WR-CALNAME:Michigan Business Network
X-ORIGINAL-URL:https://michiganbusinessnetwork.com
X-WR-CALDESC:Events for Michigan Business Network
REFRESH-INTERVAL;VALUE=DURATION:PT1H
X-Robots-Tag:noindex
X-PUBLISHED-TTL:PT1H
BEGIN:VTIMEZONE
TZID:America/Detroit
BEGIN:DAYLIGHT
TZOFFSETFROM:-0500
TZOFFSETTO:-0400
TZNAME:EDT
DTSTART:20240310T070000
END:DAYLIGHT
BEGIN:STANDARD
TZOFFSETFROM:-0400
TZOFFSETTO:-0500
TZNAME:EST
DTSTART:20241103T060000
END:STANDARD
BEGIN:DAYLIGHT
TZOFFSETFROM:-0500
TZOFFSETTO:-0400
TZNAME:EDT
DTSTART:20250309T070000
END:DAYLIGHT
BEGIN:STANDARD
TZOFFSETFROM:-0400
TZOFFSETTO:-0500
TZNAME:EST
DTSTART:20251102T060000
END:STANDARD
BEGIN:DAYLIGHT
TZOFFSETFROM:-0500
TZOFFSETTO:-0400
TZNAME:EDT
DTSTART:20260308T070000
END:DAYLIGHT
BEGIN:STANDARD
TZOFFSETFROM:-0400
TZOFFSETTO:-0500
TZNAME:EST
DTSTART:20261101T060000
END:STANDARD
END:VTIMEZONE
BEGIN:VEVENT
DTSTART;TZID=America/Detroit:20250508T130000
DTEND;TZID=America/Detroit:20250508T150000
DTSTAMP:20260420T120932
CREATED:20250313T181034Z
LAST-MODIFIED:20250313T181034Z
UID:10000061-1746709200-1746716400@michiganbusinessnetwork.com
SUMMARY:Integr8 2025 Spring Mixer
DESCRIPTION:Join attendees from the January-April roundtables for an evening of networking\, food\, and drinks. A panel discussion will kick off the event\, followed by a chance to connect with peers and thought leaders.\n\n“Innovation Unleashed: AI\, Additive Manufacturing\, and Cybersecurity Shaping Industry 4.0”
URL:https://michiganbusinessnetwork.com/event/integr8-2025-spring-mixer/
LOCATION:The Ford House\, 1100 Lakeshore Drive\, Grosse Pointe Shores\, MI\, 48326\, United States
END:VEVENT
END:VCALENDAR