BEGIN:VCALENDAR
VERSION:2.0
PRODID:-//Michigan Business Network - ECPv6.15.15//NONSGML v1.0//EN
CALSCALE:GREGORIAN
METHOD:PUBLISH
X-WR-CALNAME:Michigan Business Network
X-ORIGINAL-URL:https://michiganbusinessnetwork.com
X-WR-CALDESC:Events for Michigan Business Network
REFRESH-INTERVAL;VALUE=DURATION:PT1H
X-Robots-Tag:noindex
X-PUBLISHED-TTL:PT1H
BEGIN:VTIMEZONE
TZID:America/Detroit
BEGIN:DAYLIGHT
TZOFFSETFROM:-0500
TZOFFSETTO:-0400
TZNAME:EDT
DTSTART:20250309T070000
END:DAYLIGHT
BEGIN:STANDARD
TZOFFSETFROM:-0400
TZOFFSETTO:-0500
TZNAME:EST
DTSTART:20251102T060000
END:STANDARD
BEGIN:DAYLIGHT
TZOFFSETFROM:-0500
TZOFFSETTO:-0400
TZNAME:EDT
DTSTART:20260308T070000
END:DAYLIGHT
BEGIN:STANDARD
TZOFFSETFROM:-0400
TZOFFSETTO:-0500
TZNAME:EST
DTSTART:20261101T060000
END:STANDARD
BEGIN:DAYLIGHT
TZOFFSETFROM:-0500
TZOFFSETTO:-0400
TZNAME:EDT
DTSTART:20270314T070000
END:DAYLIGHT
BEGIN:STANDARD
TZOFFSETFROM:-0400
TZOFFSETTO:-0500
TZNAME:EST
DTSTART:20271107T060000
END:STANDARD
END:VTIMEZONE
BEGIN:VEVENT
DTSTART;TZID=America/Detroit:20260303T083000
DTEND;TZID=America/Detroit:20260303T103000
DTSTAMP:20260421T182502
CREATED:20260224T183520Z
LAST-MODIFIED:20260224T183520Z
UID:10000192-1772526600-1772533800@michiganbusinessnetwork.com
SUMMARY:Choose Lansing Annual Meeting
DESCRIPTION:WHO: Choose Lansing® staff\, Board of Directors\, as well as area hospitality industry staff and other regional community leaders.\n\nWHAT: Executive leadership of Choose Lansing® will share how the Greater Lansing hospitality and tourism industry welcomes 6.7 million visitors each year\, generating $732 million dollars in economic impact for the region. It will also celebrate the CTA Star of the Year and share a look into 2026 initiatives.\n\nWHERE: Crowne Plaza Lansing\n925 S Creyts Rd.\nLansing\, MI 48917\n\nWHEN: Tuesday\, March 3\, 2026 \n8:30 a.m. – 10:30 a.m.
URL:https://michiganbusinessnetwork.com/event/choose-lansing-annual-meeting/
LOCATION:Crowne Plaza Lansing West\, 925 S Creyts Rd\, Lansing\, MI\, 48917\, United States
CATEGORIES:Community Events
END:VEVENT
BEGIN:VEVENT
DTSTART;TZID=America/Detroit:20260303T083000
DTEND;TZID=America/Detroit:20260303T110000
DTSTAMP:20260421T182502
CREATED:20260212T171604Z
LAST-MODIFIED:20260212T171604Z
UID:10000182-1772526600-1772535600@michiganbusinessnetwork.com
SUMMARY:U-M Flint Research Mixer: Mobility & Cybersecurity Innovation
DESCRIPTION:University of Michigan-Flint’s College of Innovation and Technology is hosting a dynamic exchange designed to connect industry leaders with emerging university research capacity. Representatives from technology\, manufacturing\, healthcare\, and transportation sectors are invited to participate in roundtable discussions about current industry challenges and future breakthroughs\, helping shape collaborative pathways and inform problem-solving research projects and industry-relevant student training. The event begins with a brief presentation followed by direct exchange between industry partners and university representatives to set new directions for university-industry innovation in Michigan.
URL:https://michiganbusinessnetwork.com/event/u-m-flint-research-mixer-mobility-cybersecurity-innovation/
LOCATION:Automation Alley\, 2675 Bellingham Drive\, Troy\, MI\, United States
CATEGORIES:Community Events
END:VEVENT
BEGIN:VEVENT
DTSTART;TZID=America/Detroit:20260304T110000
DTEND;TZID=America/Detroit:20260304T130000
DTSTAMP:20260421T182502
CREATED:20260205T151020Z
LAST-MODIFIED:20260205T151601Z
UID:10000176-1772622000-1772629200@michiganbusinessnetwork.com
SUMMARY:Automation Alley's: Project DIAMOnD Additive Insight Exchange
DESCRIPTION:The Project DIAMOnD Additive Insight Exchange is a monthly discussion series hosted at the Digital Transformation Center (DTC)\, designed to help Michigan manufacturers deepen their understanding of 3D printing and additive manufacturing in a collaborative\, conversational format.
URL:https://michiganbusinessnetwork.com/event/automation-alleys-project-diamond-additive-insight-exchange/
LOCATION:Geofabrica\, 2900 Auburn Ct\, Auburn Hills\, MI\, 48326\, United States
CATEGORIES:Community Events
END:VEVENT
BEGIN:VEVENT
DTSTART;TZID=America/Detroit:20260304T170000
DTEND;TZID=America/Detroit:20260304T190000
DTSTAMP:20260421T182502
CREATED:20260217T174700Z
LAST-MODIFIED:20260217T174728Z
UID:10000186-1772643600-1772650800@michiganbusinessnetwork.com
SUMMARY:Mich Bio: Detroit BioMixer
DESCRIPTION:Looking for an easy\, no-pressure way to connect with Michigan’s life sciences community? Join us Wednesday\, March 4 in Detroit for BioMixer\, hosted by MichBio and VWR part of Avantor. \nBioMixer is all about relaxed conversation and meaningful connections. You’ll meet life sciences professionals\, academics\, and students from across the region—whether you’re looking to spark new ideas\, grow your network\, or just enjoy catching up with peers in a casual setting. \nNo formal agenda. No panels. Just good conversation\, great people\, and a welcoming environment.
URL:https://michiganbusinessnetwork.com/event/mich-bio-detroit-biomixer/
LOCATION:Plymouth Green Innovation Community – The Kiva Conference Center\, 3600 Green Court\, Ann Arbor\, MI\, 48105
END:VEVENT
BEGIN:VEVENT
DTSTART;TZID=America/Detroit:20260308T080000
DTEND;TZID=America/Detroit:20260308T170000
DTSTAMP:20260421T182502
CREATED:20260210T202331Z
LAST-MODIFIED:20260210T202331Z
UID:10000180-1772956800-1772989200@michiganbusinessnetwork.com
SUMMARY:Detroit Online Job Fair
DESCRIPTION:The Michigan Online Job Fair is a daily virtual hiring event connecting job seekers across Michigan with employers who are hiring now. Attend online at www.JobFairGiant.com.\nDetroit Online Daily Virtual Job Fair Connecting Michigan Job Seekers With Employers Hiring Now. Join each day from your phone\, tablet\, or computer\, no travel\, no long lines\, and no pressure. Participate from the comfort of your home and connect directly with real employers ready to hire. Attend for one day or multiple days; each day offers new opportunities to connect\, interview\, and get hired.
URL:https://michiganbusinessnetwork.com/event/detroit-online-job-fair-2/
LOCATION:online
CATEGORIES:Community Events
END:VEVENT
BEGIN:VEVENT
DTSTART;TZID=America/Detroit:20260310T110000
DTEND;TZID=America/Detroit:20260310T130000
DTSTAMP:20260421T182502
CREATED:20260126T192004Z
LAST-MODIFIED:20260126T192004Z
UID:10000175-1773140400-1773147600@michiganbusinessnetwork.com
SUMMARY:Axis Advisors: You're Invited to Outlook Detroit 2026
DESCRIPTION:  \nAxis Advisors invites corporate and industry partners to join us for Outlook Detroit 2026: A View into the Future of Commercial Real Estate \n\n\n\n\nAxis Advisors invites corporate and industry partners to join us for Outlook Detroit 2026: A View into the Future of Commercial Real Estate on Wednesday\, March 10th at the Detroit Athletic Club in downtown Detroit.
URL:https://michiganbusinessnetwork.com/event/axis-advisors-youre-invited-to-outlook-detroit-2026/
LOCATION:Detroit Athletic Club\, 241 Madison St\, Detroit\, MI 48226\, 48226
CATEGORIES:Community Events
END:VEVENT
BEGIN:VEVENT
DTSTART;TZID=America/Detroit:20260313T090000
DTEND;TZID=America/Detroit:20260313T180000
DTSTAMP:20260421T182502
CREATED:20260219T152455Z
LAST-MODIFIED:20260219T152455Z
UID:10000190-1773392400-1773424800@michiganbusinessnetwork.com
SUMMARY:Detroit Impact Conference
DESCRIPTION:A one-day immersive conference around leadership\, impact\, and entrepreneurial growth in urban environments. Features panels with business and civic leaders\, guided tours\, and a networking reception. \n​Hosted in Downtown Detroit at the Urban Tech Xchange\, this all-day conference aligns with Detroit’s iconic 313 Day and brings participants directly into the city’s energy\, history\, and ongoing transformation. \n​Our 2026 theme\, Grit & Growth: Impact and Leadership Through Adversity\, examines what it truly takes to build\, lead\, and create meaningful impact\, especially in complex and challenging environments. \n​Whether you’re interested in impact\, entrepreneurship\, leadership\, or the future of cities\, the DIR Conference offers an opportunity to experience Detroit up close and learn directly from those shaping its future. \n​What to expect: \n\n\n​Speakers include Sonya Mays (CEO\, Develop Detroit)\, Jacob Cohen (Partner\, Detroit Venture Partners and Co-Founder\, SignalAdvisors)\, Grant Gilbert (VP\, Rock Entertainment)\, Hilary Doe (Chief Growth Officer of Michigan)\, Christina Fair (Founder\, Hum)\, and many more to be announced soon. \n\n\n​Panels across Tech\, Entrepreneurship\, and Social Impact. \n\n\n​Guided walking tours of the most iconic buildings in Downtown Detroit. \n\n\n​Light breakfast and lunch from Detroit businesses like Breadless and Buddy’s Pizza. \n\n\n​Networking reception with speakers and leaders of Detroit. \n\n\n​Bus transportation between Ann Arbor and Detroit.
URL:https://michiganbusinessnetwork.com/event/detroit-impact-conference/
LOCATION:Urban Tech Xchange\, 1520 Woodward Ave\, Detroit\, MI\, 48226\, United States
CATEGORIES:Community Events
END:VEVENT
BEGIN:VEVENT
DTSTART;TZID=America/Detroit:20260313T160000
DTEND;TZID=America/Detroit:20260313T173000
DTSTAMP:20260421T182502
CREATED:20260216T185323Z
LAST-MODIFIED:20260217T183933Z
UID:10000185-1773417600-1773423000@michiganbusinessnetwork.com
SUMMARY:Michigan Rosie the Riveter Day
DESCRIPTION:Step into a day filled with Original Rosies\, U.S. Veterans\, Tuskegee Airmen\, and tributes to Rosies in aerospace\, farming\, and the skilled trades. Experience vintage planes\, WWII-era singers\, dynamic speakers\, and a community united in gratitude.\n\nExplore hands-on STEM activities for kids\, meet inspiring leaders\, visit unique vendors\, and connect with manufacturers\, trades workers\, robotics teams\, scout troops\, families\, students and history enthusiasts from across Michigan.\n\nThis is more than an event—it’s a celebration of courage\, innovation\, unity\, and the unstoppable American spirit.
URL:https://michiganbusinessnetwork.com/event/michigan-rosie-the-riveter-day/
LOCATION:Friendship Hall\, Capital Region International Airport\, 4100 Capital City Blvd\, Lansing\, MI\, 48906\, United States
CATEGORIES:Community Events
END:VEVENT
BEGIN:VEVENT
DTSTART;TZID=America/Detroit:20260315T080000
DTEND;TZID=America/Detroit:20260315T170000
DTSTAMP:20260421T182502
CREATED:20260210T202521Z
LAST-MODIFIED:20260210T202521Z
UID:10000181-1773561600-1773594000@michiganbusinessnetwork.com
SUMMARY:Detroit Online Job Fair
DESCRIPTION:The Michigan Online Job Fair is a daily virtual hiring event connecting job seekers across Michigan with employers who are hiring now. Attend online at www.JobFairGiant.com.\nDetroit Online Daily Virtual Job Fair Connecting Michigan Job Seekers With Employers Hiring Now. Join each day from your phone\, tablet\, or computer\, no travel\, no long lines\, and no pressure. Participate from the comfort of your home and connect directly with real employers ready to hire. Attend for one day or multiple days; each day offers new opportunities to connect\, interview\, and get hired.
URL:https://michiganbusinessnetwork.com/event/detroit-online-job-fair-3/
LOCATION:online
CATEGORIES:Community Events
END:VEVENT
BEGIN:VEVENT
DTSTART;TZID=America/Detroit:20260319T183000
DTEND;TZID=America/Detroit:20260319T220000
DTSTAMP:20260421T182502
CREATED:20260217T181409Z
LAST-MODIFIED:20260217T181409Z
UID:10000187-1773945000-1773957600@michiganbusinessnetwork.com
SUMMARY:U.S. Open Cup Tickets & Merch On Sale Now
DESCRIPTION:
URL:https://michiganbusinessnetwork.com/event/u-s-open-cup-tickets-merch-on-sale-now/
LOCATION:Don Batchelor Stadium\, 11920 S Saginaw St. Grand Blanc\, MI 48439
CATEGORIES:Community Events
END:VEVENT
BEGIN:VEVENT
DTSTART;TZID=America/Detroit:20260325T110000
DTEND;TZID=America/Detroit:20260325T133000
DTSTAMP:20260421T182502
CREATED:20260224T172859Z
LAST-MODIFIED:20260224T172859Z
UID:10000191-1774436400-1774445400@michiganbusinessnetwork.com
SUMMARY:MBN SPEAKER SERIES: Sensible Cybersecurity with Rick Snyder
DESCRIPTION:Come and join us at the Capitol Region International Airport to listen to Rick Snyder talk about Sensible Cybersecurity. With the rise of new technologies\, it is always important to make sure your irreplaceable information does not fall into the wrong hands. At this luncheon\, the former governor of Michigan\, now the current CEO of SensCy\, will talk about the importance of Cybersecurity\, what hackers might do to try and steal your data\, and how you can prevent that from happening. \nPartners of MBN get in for free. As for anyone else\, the cost is $55.
URL:https://michiganbusinessnetwork.com/event/mbn-speaker-series-sensible-cybersecurity-with-rick-snyder/
LOCATION:Friendship Hall\, Capital Region International Airport\, 4100 Capital City Blvd\, Lansing\, MI\, 48906\, United States
CATEGORIES:MBN Speaker Series
END:VEVENT
BEGIN:VEVENT
DTSTART;TZID=America/Detroit:20260326T130000
DTEND;TZID=America/Detroit:20260326T140000
DTSTAMP:20260421T182502
CREATED:20260226T171722Z
LAST-MODIFIED:20260226T171722Z
UID:10000193-1774530000-1774533600@michiganbusinessnetwork.com
SUMMARY:Multi-Employer Business Spotlight Invitation
DESCRIPTION:The event will include seven (largely) statewide employers serving as panelists and will also include questions from me for those panelists of many industries. The participating employers are included in the flyer. About 75-100+ employment opportunities are available from these seven businesses!\n\nThe session will be geared to:\n\n\n\nEnhance attendees’ job search skills (learning about tips about overcoming barriers to employment\, transferable skills importance\, resume tips\, interviewing tactics)\n\n\n\nProvide personal life tips (self-sufficiency tips\, insight into the panelists’ career paths\, and general advice) from the panelists\n\n\n\nWhile also outlining the panelists’ employment opportunities!
URL:https://michiganbusinessnetwork.com/event/multi-employer-business-spotlight-invitation/
CATEGORIES:Community Events
END:VEVENT
BEGIN:VEVENT
DTSTART;TZID=America/Detroit:20260331T120000
DTEND;TZID=America/Detroit:20260331T130000
DTSTAMP:20260421T182502
CREATED:20260324T193137Z
LAST-MODIFIED:20260324T193137Z
UID:10000199-1774958400-1774962000@michiganbusinessnetwork.com
SUMMARY:MWF: Managing UP Webinar
DESCRIPTION:
URL:https://michiganbusinessnetwork.com/event/mwf-managing-up-webinar/
LOCATION:online
CATEGORIES:Community Events
END:VEVENT
END:VCALENDAR