BEGIN:VCALENDAR
VERSION:2.0
PRODID:-//Michigan Business Network - ECPv6.15.15//NONSGML v1.0//EN
CALSCALE:GREGORIAN
METHOD:PUBLISH
X-ORIGINAL-URL:https://michiganbusinessnetwork.com
X-WR-CALDESC:Events for Michigan Business Network
REFRESH-INTERVAL;VALUE=DURATION:PT1H
X-Robots-Tag:noindex
X-PUBLISHED-TTL:PT1H
BEGIN:VTIMEZONE
TZID:America/Detroit
BEGIN:DAYLIGHT
TZOFFSETFROM:-0500
TZOFFSETTO:-0400
TZNAME:EDT
DTSTART:20250309T070000
END:DAYLIGHT
BEGIN:STANDARD
TZOFFSETFROM:-0400
TZOFFSETTO:-0500
TZNAME:EST
DTSTART:20251102T060000
END:STANDARD
BEGIN:DAYLIGHT
TZOFFSETFROM:-0500
TZOFFSETTO:-0400
TZNAME:EDT
DTSTART:20260308T070000
END:DAYLIGHT
BEGIN:STANDARD
TZOFFSETFROM:-0400
TZOFFSETTO:-0500
TZNAME:EST
DTSTART:20261101T060000
END:STANDARD
BEGIN:DAYLIGHT
TZOFFSETFROM:-0500
TZOFFSETTO:-0400
TZNAME:EDT
DTSTART:20270314T070000
END:DAYLIGHT
BEGIN:STANDARD
TZOFFSETFROM:-0400
TZOFFSETTO:-0500
TZNAME:EST
DTSTART:20271107T060000
END:STANDARD
END:VTIMEZONE
BEGIN:VEVENT
DTSTART;TZID=America/Detroit:20260512T113000
DTEND;TZID=America/Detroit:20260512T133000
DTSTAMP:20260425T074730
CREATED:20260421T162428Z
LAST-MODIFIED:20260421T162428Z
UID:10000206-1778585400-1778592600@michiganbusinessnetwork.com
SUMMARY:MBN SPEAKER SERIES: 2026 Sports Luncheon with Speaker Will Tieman
DESCRIPTION:GO GREEN! GO WHITE! GO MBN! Join us at the Capital Region International Airport for our yearly Spring Sports Luncheon on Tuesday\, May 12th\, from 11 AM to 1:30 pm. This year’s special guest is the Voice of the MSU Spartans Men’s Basketball Team\, Will Tieman. \nThe MSU Broadcaster will go over his time in the broadcast booth with the Spartan Media Network\, and talk about other business adventures he has taken during the Offseason. \n  \nDon’t Miss out! Partners of MBN get in for free. As for anyone else\, the cost is $55 per ticket.
URL:https://michiganbusinessnetwork.com/event/mbn-speaker-series-2026-sports-luncheon-with-speaker-will-tieman/
LOCATION:Friendship Hall\, Capital Region International Airport\, 4100 Capital City Blvd\, Lansing\, MI\, 48906\, United States
CATEGORIES:MBN Speaker Series
ATTACH;FMTTYPE=image/png:https://michiganbusinessnetwork.com/wp-content/uploads/Will-Tieman-LARGE-V1-04-21-2026-1-scaled.png
END:VEVENT
END:VCALENDAR