BEGIN:VCALENDAR
VERSION:2.0
PRODID:-//Michigan Business Network - ECPv6.15.15//NONSGML v1.0//EN
CALSCALE:GREGORIAN
METHOD:PUBLISH
X-WR-CALNAME:Michigan Business Network
X-ORIGINAL-URL:https://michiganbusinessnetwork.com
X-WR-CALDESC:Events for Michigan Business Network
REFRESH-INTERVAL;VALUE=DURATION:PT1H
X-Robots-Tag:noindex
X-PUBLISHED-TTL:PT1H
BEGIN:VTIMEZONE
TZID:America/Detroit
BEGIN:DAYLIGHT
TZOFFSETFROM:-0500
TZOFFSETTO:-0400
TZNAME:EDT
DTSTART:20250309T070000
END:DAYLIGHT
BEGIN:STANDARD
TZOFFSETFROM:-0400
TZOFFSETTO:-0500
TZNAME:EST
DTSTART:20251102T060000
END:STANDARD
BEGIN:DAYLIGHT
TZOFFSETFROM:-0500
TZOFFSETTO:-0400
TZNAME:EDT
DTSTART:20260308T070000
END:DAYLIGHT
BEGIN:STANDARD
TZOFFSETFROM:-0400
TZOFFSETTO:-0500
TZNAME:EST
DTSTART:20261101T060000
END:STANDARD
BEGIN:DAYLIGHT
TZOFFSETFROM:-0500
TZOFFSETTO:-0400
TZNAME:EDT
DTSTART:20270314T070000
END:DAYLIGHT
BEGIN:STANDARD
TZOFFSETFROM:-0400
TZOFFSETTO:-0500
TZNAME:EST
DTSTART:20271107T060000
END:STANDARD
END:VTIMEZONE
BEGIN:VEVENT
DTSTART;TZID=America/Detroit:20260325T110000
DTEND;TZID=America/Detroit:20260325T133000
DTSTAMP:20260420T220838
CREATED:20260224T172859Z
LAST-MODIFIED:20260224T172859Z
UID:10000191-1774436400-1774445400@michiganbusinessnetwork.com
SUMMARY:MBN SPEAKER SERIES: Sensible Cybersecurity with Rick Snyder
DESCRIPTION:Come and join us at the Capitol Region International Airport to listen to Rick Snyder talk about Sensible Cybersecurity. With the rise of new technologies\, it is always important to make sure your irreplaceable information does not fall into the wrong hands. At this luncheon\, the former governor of Michigan\, now the current CEO of SensCy\, will talk about the importance of Cybersecurity\, what hackers might do to try and steal your data\, and how you can prevent that from happening. \nPartners of MBN get in for free. As for anyone else\, the cost is $55.
URL:https://michiganbusinessnetwork.com/event/mbn-speaker-series-sensible-cybersecurity-with-rick-snyder/
LOCATION:Friendship Hall\, Capital Region International Airport\, 4100 Capital City Blvd\, Lansing\, MI\, 48906\, United States
CATEGORIES:MBN Speaker Series
END:VEVENT
END:VCALENDAR